BEGIN:VCALENDAR
VERSION:2.0
PRODID:-//ChamberMaster//Event Calendar 2.0//EN
METHOD:PUBLISH
X-PUBLISHED-TTL:P3D
REFRESH-INTERVAL:P3D
CALSCALE:GREGORIAN
BEGIN:VEVENT
DTSTART:20260506T213000Z
DTEND:20260506T223000Z
X-MICROSOFT-CDO-ALLDAYEVENT:FALSE
SUMMARY:Listening Session: Emerging Professionals / Connext
DESCRIPTION:Join us for an interactive listening session for nonprofit emerging professionals with our new CEO Chad Harris. This small-group gathering offers a space to connect\, build relationships\, and share your perspective.\n\nDuring this 60 minute conversation\, participants will have the opportunity to:\n\n\n	Meet Chad and share your insight \n	Share your perspective on the Nonprofit Connect experience\, current professional development needs\, and key industry trends impacting your organization\n\n\nYour input will play an important role in shaping future professional development and educational programming. Come ready to connect\, reflect\, and share your insights with Dr. Chad Harris. \n\n\n\nRegistering for a listening session but not a emerging professional? Find other listening sessions here.
X-ALT-DESC;FMTTYPE=text/html:<p data-end="213" data-start="0"><font color="#000000"><span style="caret-color: rgb(0\, 0\, 0)\;">Join us for an interactive listening session for</span></font><strong><font color="#000000"><span style="caret-color: rgb(0\, 0\, 0)\;"> nonprofit emerging professionals&nbsp\;</span></font></strong><font color="#000000"><span style="caret-color: rgb(0\, 0\, 0)\;">with our new CEO Chad Harris.&nbsp\;This small-group gathering&nbsp\;offers a space to connect\, build relationships\, and share your perspective.</span></font></p>\n\n<p data-end="296" data-start="215" style="caret-color: rgb(0\, 0\, 0)\; color: rgb(0\, 0\, 0)\;">During this 60 minute conversation\, participants will have the opportunity to:</p>\n\n<ul data-end="464" data-start="297" style="caret-color: rgb(0\, 0\, 0)\; color: rgb(0\, 0\, 0)\;">\n	<li data-end="344" data-section-id="38rdlo" data-start="297">Meet Chad and share your insight&nbsp\;</li>\n	<li data-end="464" data-section-id="ygtyyn" data-start="345">Share your perspective&nbsp\;on the Nonprofit&nbsp\;Connect experience\, current&nbsp\;professional development needs\, and key industry trends impacting your organization</li>\n</ul>\n\n<p data-end="637" data-is-last-node="" data-is-only-node="" data-start="466" style="caret-color: rgb(0\, 0\, 0)\; color: rgb(0\, 0\, 0)\;">Your input will play an important role in shaping future professional development and educational programming. Come ready to connect\, reflect\, and share your insights with Dr. Chad Harris.&nbsp\;<br />\n<br />\nRegistering for a listening session but not a<strong>&nbsp\;emerging professional?</strong>&nbsp\;Find other listening sessions <a href="https://www.npconnect.org/30-listening-sessions-30-days/" style="caret-color: rgb(0\, 0\, 0)\;">here</a><span style="color: rgb(0\, 0\, 0)\; caret-color: rgb(0\, 0\, 0)\;">.</span></p>\n
LOCATION:Virtual. Zoom link will be shared after registration.
UID:e.9142.10400
SEQUENCE:3
DTSTAMP:20260421T020738Z
URL:http://npconnect.memberzone.com/events/details/listening-session-emerging-professionals-connext-10400
END:VEVENT

END:VCALENDAR
